BEGIN:VCALENDAR
VERSION:2.0
PRODID:-//wp-events-plugin.com//7.2.3.1//EN
TZID:Europe/Vienna
X-WR-TIMEZONE:Europe/Vienna
BEGIN:VEVENT
UID:226@asb915.at
DTSTART;TZID=Europe/Vienna:20260404T090000
DTEND;TZID=Europe/Vienna:20260404T150000
DTSTAMP:20260209T130943Z
URL:https://asb915.at/erste-hilfe-kurse/kurse/retten-auf-asphalt-erste-hil
 fe-kurs-fuer-den-fuehrerschein-4-april-2026/
SUMMARY:Retten auf Asphalt - Erste-Hilfe-Kurs für den Führerschein: 4. Ap
 ril 2026
DESCRIPTION:Erste Hilfe Unterweisung in lebensrettenden Sofortmaßnahmen (F
 ührerschein)
CATEGORIES:Retten auf Asphalt (6 h)
LOCATION:Samariterbund Schulungszentrum West\, Speisinger Straße 56\, Wien
 \, 1130\, Österreich
X-APPLE-STRUCTURED-LOCATION;VALUE=URI;X-ADDRESS=Speisinger Straße 56\, Wie
 n\, 1130\, Österreich;X-APPLE-RADIUS=100;X-TITLE=Samariterbund Schulungsz
 entrum West:geo:0,0
END:VEVENT
BEGIN:VTIMEZONE
TZID:Europe/Vienna
X-LIC-LOCATION:Europe/Vienna
BEGIN:DAYLIGHT
DTSTART:20260329T030000
TZOFFSETFROM:+0100
TZOFFSETTO:+0200
TZNAME:CEST
END:DAYLIGHT
END:VTIMEZONE
END:VCALENDAR