BEGIN:VCALENDAR
VERSION:2.0
PRODID:-//wp-events-plugin.com//7.2.3.1//EN
TZID:Europe/Vienna
X-WR-TIMEZONE:Europe/Vienna
BEGIN:VEVENT
UID:101@asb915.at
DTSTART;TZID=Europe/Vienna:20250315T090000
DTEND;TZID=Europe/Vienna:20250315T150000
DTSTAMP:20241122T120828Z
URL:https://asb915.at/erste-hilfe-kurse/kurse/retten-auf-asphalt-samstag-1
 5-maerz-2025/
SUMMARY:Retten auf Asphalt: Samstag\, 15. März 2025
DESCRIPTION:Erste Hilfe Unterweisung in lebensrettenden Sofortmaßnahmen (F
 ührerschein)
CATEGORIES:Retten auf Asphalt (6 h)
LOCATION:Samariterbund Schulungszentrum West\, Speisinger Straße 56\, Wien
 \, 1130\, Österreich
X-APPLE-STRUCTURED-LOCATION;VALUE=URI;X-ADDRESS=Speisinger Straße 56\, Wie
 n\, 1130\, Österreich;X-APPLE-RADIUS=100;X-TITLE=Samariterbund Schulungsz
 entrum West:geo:0,0
END:VEVENT
BEGIN:VTIMEZONE
TZID:Europe/Vienna
X-LIC-LOCATION:Europe/Vienna
BEGIN:STANDARD
DTSTART:20241027T020000
TZOFFSETFROM:+0200
TZOFFSETTO:+0100
TZNAME:CET
END:STANDARD
END:VTIMEZONE
END:VCALENDAR